BEGIN:VCALENDAR
VERSION:2.0
PRODID:Events Booking
BEGIN:VEVENT
UID:69ecc86292ea5
SUMMARY:Inklusive Herbst Handball Tage 2026
DESCRIPTION:Handball + Spass + neue Freunde = Unvergessliche Herbstferien!S
 chnapp dir deinen Ball und erlebe fünf actiongeladene Tage voller Handbal
 l – mit dabei: Athlet:innen der TogetherLeague. Gemeinsam spielen\, geme
 insam wachsen!
LOCATION:Ida-Sträuli-Strasse 65-67\, 8409 Winterthur\, Schweiz
DTSTART:20261012T060000Z
DTEND:20261016T150000Z
DTSTAMP:20260425T073725Z
ORGANIZER;CN=Winti-Kids Events:MAILTO:no-reply@winti-kids.ch
GEO:47.504197;8.766812
X-APPLE-STRUCTURED-LOCATION;VALUE=URI;X-ADDRESS=Ida-Sträuli-Strasse 65-67\
 , 8409 Winterthur\, Schweiz;X-APPLE-RADIUS=72;X-TITLE=Sporthalle Neuhegi:4
 7.504197;8.766812
END:VEVENT
END:VCALENDAR